BEGIN:VCALENDAR
VERSION:2.0
PRODID:-//https://www.wnc.ac.uk///NONSGML kigkonsult.se iCalcreator 2.10.15//
METHOD:PUBLISH
BEGIN:VEVENT
UID:20260420T064012UTC-9719bkdpvo@https://www.wnc.ac.uk/
DTSTAMP:20260420T064012Z
DESCRIPTION:Book your place today\nBooking is essential for all our try a t
 rade events as we have limited spaces\, so make sure you reserve yours tod
 ay!\nBook now via Eventbrite\n\nWhat to expect\nAre you a school leaver in
 terested in pursuing a career in the trade industry but unsure which path 
 to take?\nWest Notts College's 'Try a Trade' taster sessions are ideal for
  anyone looking to explore pathways in construction when leaving school\, 
 whether you're considering a full qualification or just want to try someth
 ing new. No prior experience is needed - just bring your enthusiasm!\n\nBr
 icklaying Taster Session – Hands-on Experience&nbsp\;\nEver wondered what 
 it takes to build with bricks? Join us for this practical taster session\,
  where you'll get hands-on experience with the essential tools and techniq
 ues used in bricklaying.\nWhat to expect:\n\nLearn the basics of bricklayi
 ng and essential tools\nPractice laying bricks and applying mortar\nExplor
 e further study and career opportunities in the trade.\n\nCarpentry and Jo
 inery Taster Session – Hands-on Experience\nAre you interested in learning
  the basics of carpentry and joinery? Join us for this practical taster se
 ssion\, where you'll get hands-on experience with the essential tools and 
 techniques used in the trade.\nWhat to expect:\n\nLearn about fundamental 
 carpentry and joinery skills\nPractice using tools and materials\nGain ins
 ight into further study and career opportunities.\n\n\nPlastering Taster S
 ession – Hands-on Experience\nInterested in learning the art of plastering
 ? Join us for this practical taster session\, where you'll gain hands-on e
 xperience with the essential tools and techniques used in this skilled tra
 de.\nWhat to expect:\n\nLearn the basics of plastering\, including tools a
 nd materials\nPractice applying plaster to walls\nExplore further study an
 d career opportunities in plastering.\n\nHealth and safety\nPlease wear cl
 othing that you don't mind getting dirty\, and all workshops will require 
 you to bring your own safety boots.\nNeed help?\nIf you have any questions
  about try a trade please contact Learner.Engagement@wnc.ac.uk\n&nbsp\; ht
 tps://www.wnc.ac.uk/events-and-news/events/event/31-try-a-trade
DTSTART:20260519T163000Z
DTEND:20260519T183000Z
LOCATION:The Old Brewery (Weighbridge Rd\, Mansfield NG18 1AH\, UK)
SUMMARY:Try a Trade
URL:https://www.wnc.ac.uk/events-and-news/events/event/31-try-a-trade
END:VEVENT
END:VCALENDAR
