BEGIN:VCALENDAR
VERSION:2.0
PRODID:-//https://www.wnc.ac.uk///NONSGML kigkonsult.se iCalcreator 2.10.15//
METHOD:PUBLISH
BEGIN:VEVENT
UID:20260420T180657UTC-4625C8k1rU@https://www.wnc.ac.uk/
DTSTAMP:20260420T180657Z
DESCRIPTION:Book your place today\nReady to make a real difference and take
  the next step in your career? West Notts College could be the perfect pla
 ce for you!\nBook now via Eventbrite\n\nWe’re looking for passionate\, tal
 ented individuals who want to inspire the next generation and be part of s
 omething meaningful. Whether you’re an experienced professional ready to s
 hare your expertise\, a career changer seeking a fresh challenge or just s
 tarting out in education\, we offer a wide range of rewarding opportunitie
 s.\nJoin us at our recruitment event on Wednesday 22 April 2026 5.30-7.30p
 m at our Derby Road Campus\, NG18 5BH to explore our facilities\, meet our
  department heads and see for yourself how a role at West Notts College co
 uld be the start of your next exciting chapter!\n\nWhy Join West Notts Col
 lege?\nAs one of the largest and most respected employers in the Mansfield
  and Ashfield area\, we are proud to attract and develop exceptional talen
 t. WNC is a leading education provider\, continuously investing in industr
 y standard facilities to give students real-world experience. From our Gen
 e Haas Centre for Advanced Manufacturing to specialist training environmen
 ts\, we prepare learners for the future.\nOur greatest investment\, howeve
 r\, is in its people. At West Notts\, you’ll join a team of friendly\, res
 pectful\, and dedicated professionals who share a passion for education an
 d lifelong learning. We welcome individuals who reflect our values: Respec
 t\, Integrity\, Collaboration\, Compassion\, and Ambition.Here’s what make
 s us stand out:\n\nA place where people thrive: Be part of a friendly\, su
 pportive and professional community united by a passion for education and 
 lifelong learning.\nOpportunities for everyone: From teaching and trainee 
 teaching roles to assessors\, trainers\, learning support assistants\, adm
 inistrators\, and facilities staff (including day and night cleaners)\, we
  offer diverse career paths across our organisation.\nIndustry standard fa
 cilities: Significant investment in our campuses means you’ll work in mode
 rn\, state of the art environments designed to reflect real industry setti
 ngs\, inspiring for both staff and students.\nA culture of growth: We are 
 committed to developing our people. With ongoing training\, clear progress
 ion pathways and a supportive\, inclusive culture\, you’ll have every oppo
 rtunity to grow and succeed.\n\n\nOur Staff Benefits\nWe believe in reward
 ing and supporting our colleagues with a comprehensive benefits package th
 at promotes wellbeing\, financial security and work-life balance:\n\nGener
 ous pension scheme: A contributory career average salary pension scheme to
  help secure your future.\nExclusive employee discounts: Savings at cinema
 s\, restaurants\, high street retailers\, gyms and supermarkets through ou
 r benefits platform.\nAttractive annual leave: Plenty of time to rest\, re
 charge and get the down time that you deserve.\nWellbeing support: Free\, 
 confidential counselling via our Employee Assistance Programme\, plus acce
 ss to a comprehensive online wellbeing hub.\nOccupational health and healt
 hcare support: Helping you stay healthy at work and beyond.Enhanced family
 -friendly policies: Including enhanced maternity and paternity pay.\nCycle
 -to-work scheme: Supporting healthier\, greener commuting.\nProfessional d
 evelopment: Dedicated staff development days and our flagship ‘Rising Star
 s’ programme to help you reach your full potential.\nOn-site perks: Free p
 arking and discounted access to our commercial facilities\, including our 
 hair and beauty salon\, fine dining restaurant and theatre.&nbsp\;\n https
 ://www.wnc.ac.uk/events-and-news/events/event/27-staff-recruitment-event-2
 026
DTSTART:20260422T173000Z
DTEND:20260422T193000Z
LOCATION:Derby Road Campus (Vision West Nottinghamshire College\, Derby Roa
 d\, Mansfield\, NG18 5BH)
SUMMARY:Staff Recruitment Event 2026
URL:https://www.wnc.ac.uk/events-and-news/events/event/27-staff-recruitment
 -event-2026
END:VEVENT
END:VCALENDAR
