BEGIN:VCALENDAR
VERSION:2.0
PRODID:-//https://www.wnc.ac.uk///NONSGML kigkonsult.se iCalcreator 2.10.15//
METHOD:PUBLISH
BEGIN:VEVENT
UID:20260420T061133UTC-1400xSbtPE@https://www.wnc.ac.uk/
DTSTAMP:20260420T061133Z
DESCRIPTION:Book your place today\nBooking is essential for all our parent 
 information evenings as we have limited spaces\, so make sure you reserve 
 yours today!\nBook now via Eventbrite\n\nWhat to expect\nThis event is for
  the parents and carers whose young person has made an application for a c
 ollege course starting September 2026.\nMake your way to the main receptio
 n of our Derby Road campus where you will be greeted by our friendly staff
 . You will then be invited to listen to a presentation\, which will includ
 e:\n\nA warm welcome by a member of the college’s executive team\nInformat
 ion about your young person's study programme including work placements an
 d wider learning opportunities\nUnderstanding what we expect of students a
 nd what they can expect from college life\nGuidance on the various student
  support services available to students at college including additional le
 arning support\nWhat financial support students can access at college\nInf
 ormation about what to expect between now and September\nA chance to ask a
 ny questions at the end of the evening.\n\nIf you require any further info
 rmation before the event\, please contact the Learner Engagement team via 
 email Learner.Engagement@wnc.ac.uk\nWe look forward to seeing you on the n
 ight.\n\nPlease note that this event is not the mandatory Meet the Tutor e
 vent that your young person has been invited to attend as a condition of t
 heir offer. It is essential that they attend a Meet the Tutor event otherw
 ise their offer may be withdrawn. If you are unsure when your young person
  has been invited to attend\, please ask them to check their offer letter/
 email and if still unsure please contact admissions@wnc.ac.uk to confirm t
 heir invite date.\nIf the date offered is not suitable\, please do not wor
 ry\, contact admissions@wnc.ac.uk and they can book the next available dat
 e instead.\n https://www.wnc.ac.uk/events-and-news/events/event/18-parent-
 information-event
DTSTART:20260325T173000Z
DTEND:20260325T183000Z
LOCATION:Derby Road Campus (Vision West Nottinghamshire College\, Derby Roa
 d\, Mansfield\, NG18 5BH)
SUMMARY:Parent Information Event
URL:https://www.wnc.ac.uk/events-and-news/events/event/18-parent-informatio
 n-event
END:VEVENT
END:VCALENDAR
