BEGIN:VCALENDAR
VERSION:2.0
PRODID:-//https://www.wnc.ac.uk///NONSGML kigkonsult.se iCalcreator 2.10.15//
METHOD:PUBLISH
BEGIN:VEVENT
UID:20260421T054831UTC-7712d94O7Z@https://www.wnc.ac.uk/
DTSTAMP:20260421T054831Z
DESCRIPTION:Book your place today\nBook today and come along to find out fo
 r yourself how West Notts College is a great place to learn\, make friends
  and start the next chapter in your exciting future.\nBook now via Eventbr
 ite\n\nWhat to expect\nExplore your educational opportunities\nDiscover th
 e wide range of courses offered by West Notts College specifically tailore
 d for adult learners aged over 19. Whether you want to upskill\, change ca
 reers\, or pursue a personal interest\, our adult education advice events 
 showcase the various educational pathways available to help you achieve yo
 ur goals.\nMeet our support teams\nInteract with our dedicated support tea
 ms during the event. Our Financial Support Team will provide information a
 nd guidance on funding options available to adult learners. The Inclusion 
 Service will be present to discuss any specific requirements you may have 
 and how we can assist you throughout your learning journey.\nCareer guidan
 ce and course selection\nUnsure about which course to study? Our experienc
 ed Careers and Employability Team will be on hand to offer personalised im
 partial guidance and help you make informed decisions about your future. D
 iscover how your existing skills and interests align with our diverse rang
 e of courses\, ensuring you choose a path that suits your aspirations and 
 maximizes your potential.\nConnect with fellow adult learners\nAttend the 
 event and connect with like-minded individuals who share similar education
 al goals and ambitions. Engage in discussions\, network\, and build relati
 onships with fellow adult learners\, creating a supportive community that 
 can enhance your overall college experience.\n\nFAQs\n{qaccordions}\n{qacc
 ordion|Where do I park?}\nWe offer free on-site parking.\n{/qaccordion}\n{
 qaccordion|What is the recommended arrival time?}\nFeel free to drop by at
  any time between 5.30pm and 7.30pm.\n{/qaccordion}\n{qaccordion|What shou
 ld I bring with me?}\nJust have your ticket ready to be checked-in to the 
 event and a rough idea of what courses you wish to study.\n{/qaccordion}\n
 {qaccordion|Can I take a tour of the facilities?}\nWhile we don't offer fa
 cility tours during the event\, we can provide you with information on boo
 king a campus tour. This way\, you can explore our state-of-the-art facili
 ties\, including workshops\, classrooms\, and study areas.\n{/qaccordion}
 \n{qaccordion|I don't know my GCSE grades. What should I do?}\nNo worries!
  Come and speak to our tutors who will provide you with the necessary info
 rmation and advice regarding the course you should apply for.\n{/qaccordio
 n}\n{qaccordion|How do I apply for a course?}\nWe will have dedicated 'App
 lication Stations' at the event\, where a member of our Admissions Team wi
 ll be available to support you throughout the application process.\n{/qacc
 ordion}\n{qaccordion|I'm unsure about which career to pursue. How do I kno
 w which course is for me?}\nOur&nbsp\;Careers and Employability Team will 
 be on hand to help you explore various career paths aligned with your inte
 rests and aspirations. They can offer impartial advice on which courses wo
 uld be suitable for you.\n{/qaccordion}\n{qaccordion|What support services
  are on offer?}\nWhether you need information about careers\, finance\, he
 alth and wellbeing – or simply want to know more about what is happening a
 round the college – there’s a friendly team ready to help.\n{/qaccordion}
 \n{qaccordion|Who can I bring with me to the event?}\nThe event is primari
 ly for individuals interested in studying with us. However\, friends and f
 amily are more than welcome to accompany you.\n{/qaccordion}\n{qaccordion|
 Who can I speak to at the event?}\nYou can interact with course tutors\, s
 tudent support services teams (including financial support and The Inclusi
 on Service)\, Apprenticeships Team\, the Access to University team\, and t
 he Careers and Employability Team.\n{/qaccordion}\n{/qaccordions} https://
 www.wnc.ac.uk/events-and-news/events/event/15-adult-education-advice-event
DTSTART:20260617T173000Z
DTEND:20260617T193000Z
LOCATION:Derby Road Campus (Vision West Nottinghamshire College\, Derby Roa
 d\, Mansfield\, NG18 5BH)
SUMMARY:Adult Education Advice Event
URL:https://www.wnc.ac.uk/events-and-news/events/event/15-adult-education-a
 dvice-event
END:VEVENT
END:VCALENDAR
