BEGIN:VCALENDAR
VERSION:2.0
PRODID:-//https://www.wnc.ac.uk///NONSGML kigkonsult.se iCalcreator 2.10.15//
METHOD:PUBLISH
BEGIN:VEVENT
UID:20260422T085201UTC-0751H7HiIr@https://www.wnc.ac.uk/
DTSTAMP:20260422T085201Z
DESCRIPTION:Book your place today\nBook today and come along to find out fo
 r yourself how West Notts College is a great place to learn\, make friends
  and start the next chapter in your exciting future.\nBook now via Eventbr
 ite\n\nWhat to expect\nExplore exciting career paths\nDiscover a wide rang
 e of apprenticeship opportunities across various industries and get valuab
 le insights into potential career paths. Learn how apprenticeships can kic
 k-start your professional journey and open doors to rewarding employment.
 \nView current vacancies and apply\nTake advantage of the unique opportuni
 ty to view a wide range of current apprenticeship vacancies in one place. 
 Apply for apprenticeships on-site\, maximising your chances of securing a 
 position that matches your interests and skill set.\nGet insider tips for 
 success\nLearn about the essential skills and qualifications employers see
 k in apprentices. Discover what it takes to stand out from the competition
  and develop strategies to enhance your chances of securing an apprentices
 hip role that aligns with your goals.\n\nFuture-proof your goals with a sm
 art backup plan\nApprenticeships are a fantastic option after leaving scho
 ol\, but since they’re just like applying for a job\, there’s no guarantee
  you’ll be selected. Recently\, there are even fewer apprenticeship vacanc
 ies\, making competition tougher than ever.\nMake a backup plan\n\nFAQs\n{
 qaccordions}\n{qaccordion|Where do I park?}\nWe offer free on-site parking
 .\n{/qaccordion}\n{qaccordion|What is the recommended arrival time?}\nFeel
  free to drop by at any time between 5.30pm and 7.30pm.\n{/qaccordion}\n{q
 accordion|What should I bring with me?}\nJust have your ticket ready to be
  checked-in to the event and a rough idea of what apprenticeships you wish
  to study.\n{/qaccordion}\n{qaccordion|How do I apply for an apprenticeshi
 p?}\nOur apprenticeships team will be on hand to provide information about
  applying for apprenticeship vacancies including how to register your inte
 rest so the team can get in touch with more information about apprenticesh
 ips and current vacancies.\n{/qaccordion}\n{qaccordion|Who can I bring wit
 h me to the event?}\nThe event is primarily for individuals interested in 
 studying an apprenticeship. However\, friends and family are more than wel
 come to accompany you.\n{/qaccordion}\n{/qaccordions} https://www.wnc.ac.u
 k/events-and-news/events/event/14-apprenticeship-information-event
DTSTART:20260319T173000Z
DTEND:20260319T193000Z
LOCATION:Derby Road Campus (Vision West Nottinghamshire College\, Derby Roa
 d\, Mansfield\, NG18 5BH)
SUMMARY:Apprenticeship Information Event
URL:https://www.wnc.ac.uk/events-and-news/events/event/14-apprenticeship-in
 formation-event
END:VEVENT
END:VCALENDAR
