BEGIN:VCALENDAR
VERSION:2.0
PRODID:-//https://www.wnc.ac.uk///NONSGML kigkonsult.se iCalcreator 2.10.15//
METHOD:PUBLISH
BEGIN:VEVENT
UID:20260420T132002UTC-4072KkpGRs@https://www.wnc.ac.uk/
DTSTAMP:20260420T132002Z
DESCRIPTION:Book your place today\nBook today and come along to find out fo
 r yourself how West Notts College is a great place to learn\, make friends
  and start the next chapter in your exciting future.\nBook now via Eventbr
 ite\n\nWhat to expect\nExplore your future\nDiscover the exciting opportun
 ities at West Notts College! Our open events provide insight into courses\
 , apprenticeships\, and career pathways\, helping you make informed decisi
 ons about your future.\nMeet expert tutors\nMeet our passionate tutors who
  can answer questions and provide guidance. Discover our industry-focused 
 teaching methods and support for your goals.\nGet career guidance\nMeet ou
 r experienced Careers Advice Team who will help you explore career paths a
 ligned with your interests and aspirations. Make informed decisions about 
 your educational journey.\nMeet our support teams\nConnect with our dedica
 ted support teams\, including financial support and The Inclusion Service.
  Learn about available financial assistance and tailored support services 
 for academic and personal success.\nConnect with our apprenticeship team\n
 Get information\, advice\, and details about apprenticeship vacancies. Exp
 lore earning while learning and our strong links with local and national b
 usinesses.\nExperience life on campus\nStep onto our modern campus and imm
 erse yourself in the vibrant atmosphere. You’ll also get details on how to
  book a campus tour to see our state-of-the-art facilities\, including wor
 kshops\, classrooms\, and study areas.\nConnect with current students\nLea
 rn from current students about their experiences at West Notts College. Ga
 in insights into student life\, activities\, and our inclusive community.
 \n\nFAQs\n{qaccordions}\n{qaccordion|Where do I park?}\nWe offer free on-s
 ite parking.\n{/qaccordion}\n{qaccordion|What is the recommended arrival t
 ime?}\nFeel free to drop by at any time within your designated timeslot.\n
 {/qaccordion}\n{qaccordion|What should I bring with me?}\nJust have your t
 icket ready to be checked-in to the event and a rough idea of what courses
  you wish to study.\n{/qaccordion}\n{qaccordion|Can I take a tour of the f
 acilities?}\nWhile we don't offer facility tours during the event\, we can
  provide you with information on booking a campus tour. This way\, you can
  explore our state-of-the-art facilities\, including workshops\, classroom
 s\, and study areas.\n{/qaccordion}\n{qaccordion|I don't know my GCSE grad
 es. What should I do?}\nNo worries! Come and speak to our teachers who wil
 l provide you with the necessary information and advice regarding the cour
 se you should apply for.\n{/qaccordion}\n{qaccordion|How do I apply for a 
 course?}\nYou can apply online at any time (the sooner the better to secur
 e your place). Additionally\, we will have dedicated 'Application Stations
 ' at the event\, where a member of our Admissions Team will be available t
 o support you throughout the application process.\n{/qaccordion}\n{qaccord
 ion|I'm unsure about which career to pursue. How do I know which course is
  for me?}\nOur Careers Advice Team will be on hand to help you explore var
 ious career paths aligned with your interests and aspirations. They can of
 fer impartial advice on which courses would be suitable for you.\n{/qaccor
 dion}\n{qaccordion|What support services are on offer?}\nWhether you need 
 information about careers\, finance\, health and wellbeing – or simply wan
 t to know more about what is happening around the college – there’s a frie
 ndly team ready to help.\n{/qaccordion}\n{qaccordion|Who can I bring with 
 me to the event?}\nThe event is primarily for individuals interested in st
 udying with us. However\, friends and family are more than welcome to acco
 mpany you.\n{/qaccordion}\n{qaccordion|Who can I speak to at the event?}\n
 You can interact with course teachers\, student support services teams (in
 cluding financial support and The Inclusion Service)\, Apprenticeships Tea
 m\, the Access to University team (for students ages 18+)\, and the Career
 s Advice Team.\n{/qaccordion}\n{/qaccordions} https://www.wnc.ac.uk/events
 -and-news/events/event/13-college-open-event
DTSTART:20260617T173000Z
DTEND:20260617T193000Z
LOCATION:Derby Road Campus (Vision West Nottinghamshire College\, Derby Roa
 d\, Mansfield\, NG18 5BH)
SUMMARY:College Open Event
URL:https://www.wnc.ac.uk/events-and-news/events/event/13-college-open-even
 t
END:VEVENT
END:VCALENDAR
