BEGIN:VCALENDAR
VERSION:2.0
PRODID:-//https://www.wnc.ac.uk///NONSGML kigkonsult.se iCalcreator 2.10.15//
METHOD:PUBLISH
BEGIN:VEVENT
UID:20260420T164856UTC-45213H7rwU@https://www.wnc.ac.uk/
DTSTAMP:20260420T164856Z
DESCRIPTION:Book your place today\nBook today and come along to find out fo
 r yourself how West Notts College is a great place to learn\, make friends
  and start the next chapter in your exciting future.\nBook now via Eventbr
 ite\n\nWhat to expect\nExplore your future\nDiscover the exciting opportun
 ities at West Notts College! Our open events provide insight into courses\
 , apprenticeships\, and career pathways\, helping you make informed decisi
 ons about your future.\nMeet expert tutors\nMeet our passionate tutors who
  can answer questions and provide guidance. Discover our industry-focused 
 teaching methods and support for your goals.\nGet career guidance\nMeet ou
 r experienced Careers Advice Team who will help you explore career paths a
 ligned with your interests and aspirations. Make informed decisions about 
 your educational journey.\nMeet our support teams\nConnect with our dedica
 ted support teams\, including financial support and The Inclusion Service.
  Learn about available financial assistance and tailored support services 
 for academic and personal success.\nConnect with our apprenticeship team\n
 Get information\, advice\, and details about apprenticeship vacancies. Exp
 lore earning while learning and our strong links with local and national b
 usinesses.\nExperience life on campus\nStep onto our modern campus and imm
 erse yourself in the vibrant atmosphere. You’ll also get details on how to
  book a campus tour to see our state-of-the-art facilities\, including wor
 kshops\, classrooms\, and study areas.\nConnect with current students\nLea
 rn from current students about their experiences at West Notts College. Ga
 in insights into student life\, activities\, and our inclusive community.
 \n\n&nbsp\;\nFAQs\n{qaccordions}\n{qaccordion|Where do I park?}\nWe offer 
 free on-site parking.\n{/qaccordion}\n{qaccordion|What is the recommended 
 arrival time?}\nFeel free to drop by at any time within your designated ti
 meslot.\n{/qaccordion}\n{qaccordion|What should I bring with me?}\nJust ha
 ve your ticket ready to be checked-in to the event and a rough idea of wha
 t courses you wish to study.\n{/qaccordion}\n{qaccordion|Can I take a tour
  of the facilities?}\nWhile we don't offer facility tours during the event
 \, we can provide you with information on booking a campus tour. This way\
 , you can explore our state-of-the-art facilities\, including workshops\, 
 classrooms\, and study areas.\n{/qaccordion}\n{qaccordion|I don't know my 
 GCSE grades. What should I do?}\nNo worries! Come and speak to our teacher
 s who will provide you with the necessary information and advice regarding
  the course you should apply for.\n{/qaccordion}\n{qaccordion|How do I app
 ly for a course?}\nYou can apply online at any time (the sooner the better
  to secure your place). Additionally\, we will have dedicated 'Application
  Stations' at the event\, where a member of our Admissions Team will be av
 ailable to support you throughout the application process.\n{/qaccordion}
 \n{qaccordion|I'm unsure about which career to pursue. How do I know which
  course is for me?}\nOur Careers Advice Team will be on hand to help you e
 xplore various career paths aligned with your interests and aspirations. T
 hey can offer impartial advice on which courses would be suitable for you.
 \n{/qaccordion}\n{qaccordion|What support services are on offer?}\nWhether
  you need information about careers\, finance\, health and wellbeing – or 
 simply want to know more about what is happening around the college – ther
 e’s a friendly team ready to help.\n{/qaccordion}\n{qaccordion|Who can I b
 ring with me to the event?}\nThe event is primarily for individuals intere
 sted in studying with us. However\, friends and family are more than welco
 me to accompany you.\n{/qaccordion}\n{qaccordion|Who can I speak to at the
  event?}\nYou can interact with course teachers\, student support services
  teams (including financial support and The Inclusion Service)\, Apprentic
 eships Team\, the Access to University team (for students ages 18+)\, and 
 the Careers Advice Team.\n{/qaccordion}\n{/qaccordions} https://www.wnc.ac
 .uk/events-and-news/events/event/12-college-open-event
DTSTART:20260430T173000Z
DTEND:20260430T193000Z
LOCATION:Derby Road Campus (Vision West Nottinghamshire College\, Derby Roa
 d\, Mansfield\, NG18 5BH)
SUMMARY:College Open Event
URL:https://www.wnc.ac.uk/events-and-news/events/event/12-college-open-even
 t
END:VEVENT
END:VCALENDAR
